BEGIN:VCALENDAR
VERSION:2.0
PRODID:-//תיאטרון הידית - ECPv5.1.5//NONSGML v1.0//EN
CALSCALE:GREGORIAN
METHOD:PUBLISH
X-WR-CALNAME:תיאטרון הידית
X-ORIGINAL-URL:https://hayadit-theater.co.il
X-WR-CALDESC:אירועים ל תיאטרון הידית
BEGIN:VTIMEZONE
TZID:UTC
BEGIN:STANDARD
TZOFFSETFROM:+0000
TZOFFSETTO:+0000
TZNAME:UTC
DTSTART:20200101T000000
END:STANDARD
END:VTIMEZONE
BEGIN:VEVENT
DTSTART;TZID=UTC:20200616T200000
DTEND;TZID=UTC:20200616T220000
DTSTAMP:20210517T012126
CREATED:20200730T083055Z
LAST-MODIFIED:20200730T083457Z
UID:2684-1592337600-1592344800@hayadit-theater.co.il
SUMMARY:במה פתוחה עולם חדש!
DESCRIPTION:		\n						\n							\n							\n						\n							\n					\n			\n							\n						\n				\n			במה פתוחה חוזרת! בנושא "עולם חדש"		\n				\n						\n					\n		\n								\n					\n		\n				\n						\n							\n					\n			\n							\n						\n						\n							\n					\n			\n							\n						\n				\n								\n					זהירות ! קורונה זה מדבק … אבל גם הצחוק של דיצה.\n\nהבמה הפתוחה שלנו חוזרת בחסותם ההירואית של שלושת המוסקטרים.\nהנס\, דיצה ופביאן עומלים על ערב מופרע ומרהיב בידית סטייל\, בו נבקש כולנו לברוא — עולם חדש 🌟\n\nזמן מצויין לתעל מחשבות קיומיות לכדי יצירה קצרה של עד 5:55 דקות.\n\nיוצרים מכל הז'אנרים מוזמנים לפנות לוואטסאפ של דיצה על מנת להירשם .\n0544821837\n\nבמה פתוחה *עולם חדש* 16/6 יום ג' 20:30 רחבת המועצה .					\n						\n				\n						\n					\n		\n				\n			\n							\n						\n				\n					\n				\n						\n					\n		\n								\n					\n		\n						\n					\n		\n								\n					\n		\n				\n						\n							\n					\n			\n							\n						\n						\n							\n					\n			\n							\n								\n					\n		\n				\n			\n							\n								\n					\n		\n								\n					\n		\n						\n					\n		\n								\n					\n		\n						\n						\n					\n		
URL:https://hayadit-theater.co.il/event/%d7%91%d7%9e%d7%94-%d7%a4%d7%aa%d7%95%d7%97%d7%94-%d7%a2%d7%95%d7%9c%d7%9d-%d7%97%d7%93%d7%a9/
LOCATION:כפר גליקסון\, מפרץ שלמה 10\, תל אביב יפו\, Israel
CATEGORIES:הצגות מקור,מרכז אירוח
ATTACH;FMTTYPE=image/jpeg:https://hayadit-theater.co.il/wp-content/uploads/2020/07/במה-פתוחה-עולם-חדש-.jpg
END:VEVENT
END:VCALENDAR