BEGIN:VCALENDAR
VERSION:2.0
PRODID:-//תיאטרון הידית - ECPv5.16.4//NONSGML v1.0//EN
CALSCALE:GREGORIAN
METHOD:PUBLISH
X-WR-CALNAME:תיאטרון הידית
X-ORIGINAL-URL:https://hayadit-theater.co.il
X-WR-CALDESC:Events for תיאטרון הידית
BEGIN:VTIMEZONE
TZID:UTC
BEGIN:STANDARD
TZOFFSETFROM:+0000
TZOFFSETTO:+0000
TZNAME:UTC
DTSTART:20210101T000000
END:STANDARD
END:VTIMEZONE
BEGIN:VEVENT
DTSTART;TZID=UTC:20210623T190000
DTEND;TZID=UTC:20210623T220000
DTSTAMP:20260424T202921
CREATED:20210608T132659Z
LAST-MODIFIED:20210614T165230Z
UID:3601-1624474800-1624485600@hayadit-theater.co.il
SUMMARY:הוצאה לאור - מרתון יצירות אישיות בידית
DESCRIPTION:הוצאה לאור\n				\n				\n				\n				\n					מרתון יצירות אישיות בידית. 23\,24/6/21 וגם 1/7/21				\n				\n				\n				\n									נרגשים להזמין לערב של יצירות אישיות של משתתפי מסלול "הוצאה לאור". כל יצירה נובעת ונולדת מעולמו ומפנימיותו של כל יוצר\, מתוך תוכן\, צורה\, סגנון וזהות אמנותית שהתחדדה והתגבשה לאורך השנה.במרכזה של כל יצירה נושא שנבחר\, לוטש\, זוכך\, נכתב ועוצב ע"י כל יוצר לכדי יצירה אישית.כל יצירה היא עולם\, היא שדה\, היא זמן\, היא דרך\, היא חלום. תאריכים: 23 ביוני\, בשעה 19:00 24 ביוני\, בשעה 19:00 באולם תיאטרון הידית בכפר גליקסון לרכישת כרטיסים- https://www.eventer.co.il/user/hayadit 								\n				\n					\n		\n				\n			\n						\n				\n									יעלו ויציגו: סלט – לאה חממיכל מילה פנינה – רותם שלאוזר תםאיך זה שכוכב – קובי גרוסמןAFTER HOURS – תמר אנקוריהפרדס וספר המצעים – נטלי קונסטנטיןעל גג העולם – מיקי דואקלנקות בשקט – רחלי יוחנן
URL:https://hayadit-theater.co.il/event/%d7%94%d7%95%d7%a6%d7%90%d7%94-%d7%9c%d7%90%d7%95%d7%a8-%d7%9e%d7%a8%d7%aa%d7%95%d7%9f-%d7%99%d7%a6%d7%99%d7%a8%d7%95%d7%aa-%d7%90%d7%99%d7%a9%d7%99%d7%95%d7%aa-%d7%91%d7%99%d7%93%d7%99%d7%aa-2/
LOCATION:כפר גליקסון\, כפר גליקסון\, כפר גליקסון\, Israel
CATEGORIES:בית הספר לתיאטרון עכשווי,קבוצת היוצרים
END:VEVENT
END:VCALENDAR