BEGIN:VCALENDAR
VERSION:2.0
PRODID:-//תיאטרון הידית - ECPv5.16.4//NONSGML v1.0//EN
CALSCALE:GREGORIAN
METHOD:PUBLISH
X-WR-CALNAME:תיאטרון הידית
X-ORIGINAL-URL:https://hayadit-theater.co.il
X-WR-CALDESC:Events for תיאטרון הידית
BEGIN:VTIMEZONE
TZID:UTC
BEGIN:STANDARD
TZOFFSETFROM:+0000
TZOFFSETTO:+0000
TZNAME:UTC
DTSTART:20220101T000000
END:STANDARD
END:VTIMEZONE
BEGIN:VEVENT
DTSTART;TZID=UTC:20221020T203000
DTEND;TZID=UTC:20221020T220000
DTSTAMP:20260426T030622
CREATED:20220908T132127Z
LAST-MODIFIED:20220908T132127Z
UID:4310-1666297800-1666303200@hayadit-theater.co.il
SUMMARY:החיים עפים
DESCRIPTION:"אם החיים הם רק משחק\, אז למה אנחנו לוקחים אותם כל כך ברצינות?…" \n✨\n"החיים עפים"\nמופע קאלט ליצני-פילוסופי-וירטואוזי \nליצנות רפואית ללב ולנשמה👻❣️ \nירון סנצ'ו גושן בהצגת היחיד\, זוכת פרס הפרינג' – "קיפוד הזהב"\, 2017 \nבימוי: שירי ג'ורנו\n\nחמישי\, 22 בספטמבר\, 20:30.\nבתיאטרון "הידית" בכפר גליקסון.
URL:https://hayadit-theater.co.il/event/%d7%94%d7%97%d7%99%d7%99%d7%9d-%d7%a2%d7%a4%d7%99%d7%9d-17/
LOCATION:כפר גליקסון\, Israel
CATEGORIES:הצגות אנסמבל,הצגות מקור
ATTACH;FMTTYPE=image/png:https://hayadit-theater.co.il/wp-content/uploads/2022/05/החיים-בלי-תאריך-1.png
END:VEVENT
END:VCALENDAR