BEGIN:VCALENDAR
VERSION:2.0
PRODID:-//תיאטרון הידית - ECPv5.16.4//NONSGML v1.0//EN
CALSCALE:GREGORIAN
METHOD:PUBLISH
X-WR-CALNAME:תיאטרון הידית
X-ORIGINAL-URL:https://hayadit-theater.co.il
X-WR-CALDESC:Events for תיאטרון הידית
BEGIN:VTIMEZONE
TZID:UTC
BEGIN:STANDARD
TZOFFSETFROM:+0000
TZOFFSETTO:+0000
TZNAME:UTC
DTSTART:20200101T000000
END:STANDARD
END:VTIMEZONE
BEGIN:VEVENT
DTSTART;TZID=UTC:20200904T100000
DTEND;TZID=UTC:20200904T120000
DTSTAMP:20260425T002431
CREATED:20200730T064845Z
LAST-MODIFIED:20200730T085931Z
UID:2622-1599213600-1599220800@hayadit-theater.co.il
SUMMARY:יום פתוח בבית הספר לתיאטרון עכשווי 4/9/20
DESCRIPTION:יום פתוח בבית ספר לתיאטרון עכשווי				\n				\n					\n		\n					\n		\n				\n						\n					\n			\n						\n						\n					\n			\n						\n				\n									בית הספר לתיאטרון עכשווי של הידית 2020/2021יום פתוח למתעניינים ללמוד בקבוצות המבוגרים.  "הידית" היא לא פחות בית ספר מאשר תיאטרון.אנחנו גאים להציע קבוצות שמלמדות את שפת היצירה הייחודית שלנו\,לילדים\, נוער ומבוגרים. אנחנו בוחרים בקפידה רבה את המורים שלנו\,ומאמינים שאי אפשר לנתק את ההוראה ממעשה היצירהלכן כולם יוצרים עצמאיים מובילים בתחומם.  מוזמנים ליום פתוח לקראת ההרשמה לשנה הבאה! מה בתכנית ? היכרות עם התיאטרון\, המסלולים וצוות ההוראה\, נקפוץ למים להתנסות חוויתית בשפת ׳הידית׳\, נקדיש זמן לשיחות אישיות ומענה על שאלות. מתי ?יום ו׳ 17/7יום ו' 14/8יום ו' 4/9 בשעות 10:00-12:00איפה?אולם הידית \, כפר גליקסון להרשמה ופרטים נוספיםשיר 0546516090 שימו לב: היום הפתוח הוא לשתי קבוצות המבוגרים. ימים פתוחים לקבוצות הילדים והנוער יפורסמו בנפרד. 
URL:https://hayadit-theater.co.il/event/%d7%99%d7%95%d7%9d-%d7%a4%d7%aa%d7%95%d7%97-%d7%91%d7%91%d7%99%d7%aa-%d7%94%d7%a1%d7%a4%d7%a8-%d7%9c%d7%aa%d7%99%d7%90%d7%98%d7%a8%d7%95%d7%9f-%d7%a2%d7%9b%d7%a9%d7%95%d7%95%d7%99-4-9-20/
LOCATION:כפר גליקסון\, Israel
CATEGORIES:בית הספר לתיאטרון עכשווי
END:VEVENT
END:VCALENDAR