BEGIN:VCALENDAR
VERSION:2.0
PRODID:-//תיאטרון הידית - ECPv5.16.4//NONSGML v1.0//EN
CALSCALE:GREGORIAN
METHOD:PUBLISH
X-WR-CALNAME:תיאטרון הידית
X-ORIGINAL-URL:https://hayadit-theater.co.il
X-WR-CALDESC:Events for תיאטרון הידית
BEGIN:VTIMEZONE
TZID:UTC
BEGIN:STANDARD
TZOFFSETFROM:+0000
TZOFFSETTO:+0000
TZNAME:UTC
DTSTART:20220101T000000
END:STANDARD
END:VTIMEZONE
BEGIN:VEVENT
DTSTART;TZID=UTC:20220526T200000
DTEND;TZID=UTC:20220526T213000
DTSTAMP:20260425T184836
CREATED:20220504T115521Z
LAST-MODIFIED:20220504T115521Z
UID:3900-1653595200-1653600600@hayadit-theater.co.il
SUMMARY:לזרוח- מחזמר קומי בארבעה קולות / נהר אליה מנדלסון
DESCRIPTION:שותפה ליצירה\, לכתיבה ולהפקה: מיכל שמואלי \nמשתתפים: יולנה צימרמן\, יואל לנדסהוט\, אמיר משיח\, נטע עמנואל\, שי מור\, עמית לוי\, נעמי עטר\, שי אלון \nבחדר המתנה נאספת חבורה צבעונית של זמרים ומחכה לאודישן למחזמר.\nזה יכול היה להיות רק עוד מבחן קבלה מביך\, ואכן\, זה היה… \nאבל הפעם נמאס להם לחכות כדי להתקבל.\nבמשך לילה אחד\, הופך חדר ההמתנה לחדר חזרות כאוטי. בדרך הם פוגשים את ההשראה\, בדמותן של זמרות ליווי נוצצות\, בעזרתן ילמדו שחלומות אפשר להגשים בדרכים לא צפויות ושלפעמים\, פשוט צריך להיכנס דרך הדלת האחורית… מחזה מוזיקלי פנטסטי\, מצחיק ומעורר מחשבה. \n\nעיבודים לפסנתר: נמרוד בן נתן \nעיבודים לקולות: מעיין בר סבר ונעמי עטר \nדרמטורגיה ועיצוב תלבושות: נורית יחיאלי \nתפאורה: משה פרנס \nאביזרים: טניה פרנס \nתאורה וסאונד: איתי גדז׳ \nתופרת: שוש קדישי \nליווי אומנותי: אדוה לוי \nעיצוב פוסטר: אודליה ליפשיץ \nשיווק: למור קריאטיב \nוידאו וסטילס: יקיר פרץ \nתומכים: מפעל הפיס\, הקרן ליוצרים עצמאיים של משרד התרבות\, קרקס שבזי. \n\nתודות: לאי״ב ארגון יוצרים עצמאיים בתיאטרון\, תיאטרון הידית\, שירי ג׳ורנו\, הנס פלאדה\, פולי גוטמן\, נעם אבידן\, אבי מאור\, אבירם ארד\, אורי אליקים\, רוני ורוני מהקרקס\, מירי ארד\, לושה גבריאלוב.\n\n\nחמישי\, 26 במאי\, 20:00.\nבאולם תיאטרון הידית בכפר גליקסון.
URL:https://hayadit-theater.co.il/event/%d7%9c%d7%96%d7%a8%d7%95%d7%97-%d7%9e%d7%97%d7%96%d7%9e%d7%a8-%d7%a7%d7%95%d7%9e%d7%99-%d7%91%d7%90%d7%a8%d7%91%d7%a2%d7%94-%d7%a7%d7%95%d7%9c%d7%95%d7%aa-%d7%a0%d7%94%d7%a8-%d7%90%d7%9c%d7%99/
CATEGORIES:מרכז אירוח
END:VEVENT
END:VCALENDAR