BEGIN:VCALENDAR
VERSION:2.0
PRODID:-//תיאטרון הידית - ECPv5.16.4//NONSGML v1.0//EN
CALSCALE:GREGORIAN
METHOD:PUBLISH
X-WR-CALNAME:תיאטרון הידית
X-ORIGINAL-URL:https://hayadit-theater.co.il
X-WR-CALDESC:Events for תיאטרון הידית
BEGIN:VTIMEZONE
TZID:UTC
BEGIN:STANDARD
TZOFFSETFROM:+0000
TZOFFSETTO:+0000
TZNAME:UTC
DTSTART:20220101T000000
END:STANDARD
END:VTIMEZONE
BEGIN:VEVENT
DTSTART;TZID=UTC:20220915T170000
DTEND;TZID=UTC:20220915T180000
DTSTAMP:20260426T024424
CREATED:20220811T143700Z
LAST-MODIFIED:20220811T144748Z
UID:4122-1663261200-1663264800@hayadit-theater.co.il
SUMMARY:מרק אבנים
DESCRIPTION:מרק אבנים				\n				\n				\n						\n					\n			\n						\n				\n									בסיום ההצגה נחלוק עם כולכם מרק (ששש… זו הפתעה לילדים!) נא להגיע להצגה עם קערה וכף מהבית! שלוש נוודיות עוברות מכפר לכפר כי יש להן משימה! להפגיש בין מבטים\, לפתוח לבבות ולהפיל חומות 💓בהומור ושיר רוקחות הנוודיות סיר מרק אבנים ומושכות כבחבלי קסם את אנשי הכפר המסוגרים החוצה מבתיהם. סיפור ההצגה מבוסס על מעשיית עם שעברה כמו מתכון עתיק\, מדור לדור ומתרבות לתרבות. הסיפור העתיק רלוונטי מתמיד – במרכזו כוחה המרפא של הנתינה והיחד.שפת ההצגה שופעת תנועה קרקסית ומוסיקה חיה\, מלאת הומור ופיוט שמלווה את מסען של הנוודיות. מוזמנות ומוזמנים להצטרף\, להתרגש ולגלות יחד את סוד המרק 🥣 מאת רוני לבנון אפריםבימוי: רוני לבנון אפרים ושירי ג'ורנומוסיקה מקורית ומשחק: נוקי- נופר צפרוני-יגלשחקניות יוצרות: אורית גרינפלד-שור ונועה יהודאי-כהןדרמטורגיה: דני לויעיצוב במה: הנס פלדהעיצוב תלבושות: נועה מרעין חיצונית וייעוץ חזותי: ליאת שבתאיהפקה: אביה חדידהשותפה ליצירה: עדן אוליאלאיור כרזה: אוריין שביט יום חמישי\, 15 בספטמבר\, 17:00.באולם תיאטרון הידית בכפר גליקסון.
URL:https://hayadit-theater.co.il/event/%d7%9e%d7%a8%d7%a7-%d7%90%d7%91%d7%a0%d7%99%d7%9d-7/
CATEGORIES:הצגות אנסמבל,הצגות מקור,לילדים
ATTACH;FMTTYPE=image/png:https://hayadit-theater.co.il/wp-content/uploads/2022/08/10-5.png
END:VEVENT
END:VCALENDAR