BEGIN:VCALENDAR
VERSION:2.0
PRODID:-//תיאטרון הידית - ECPv5.1.5//NONSGML v1.0//EN
CALSCALE:GREGORIAN
METHOD:PUBLISH
X-WR-CALNAME:תיאטרון הידית
X-ORIGINAL-URL:https://hayadit-theater.co.il
X-WR-CALDESC:אירועים ל תיאטרון הידית
BEGIN:VTIMEZONE
TZID:UTC
BEGIN:STANDARD
TZOFFSETFROM:+0000
TZOFFSETTO:+0000
TZNAME:UTC
DTSTART:20190101T000000
END:STANDARD
END:VTIMEZONE
BEGIN:VEVENT
DTSTART;TZID=UTC:20190517T100000
DTEND;TZID=UTC:20190517T123000
DTSTAMP:20210512T020333
CREATED:20190417T092332Z
LAST-MODIFIED:20190417T092633Z
UID:1480-1558087200-1558096200@hayadit-theater.co.il
SUMMARY:סדנת "גבהים ועומקים" עם דודי מעיין
DESCRIPTION:		\n						\n							\n							\n						\n							\n					\n			\n							\n						\n						\n							\n					\n			\n							\n						\n				\n			"גבהים ועומקים" עם דודי מעיין		\n				\n				\n				\n								\n					״גבהים ועומקים״ התנסות מעשית של יצירה עם דויד מעיין- כפר גליקסוןמועד התחלה:שישי\, 17.05.19 (10:00)פתיחת דלתות:10:00כתובת:כפר גליקסון\, ישראלהתנסות מעשית של יצירה מתמדת עם היוצר והאמן דויד מעיין. יום אינטנסיבי של העשרה והשראה באמצעות שימוש בכלי יצירה\, ומפגש עם אמן תיאטרון ויוצר פעיל בשדה היצירה התיאטרונית האלטרנטיבית . חימום\, תנועה\, מהירות\, דינמיות\, שיווי משקל \, גרויטציה\, דאיה לגבהים וצלילה לעומקים. בתווך מדיטציה. ריקוד. לב ושאר רוח. הנחיות בהפתעה. שימושים בכלי יצירה מובילים ללידה מפתיעה של יצירה אישית. לרכישת כרטיס >    					\n						\n				\n						\n					\n		\n								\n					\n		\n						\n					\n		\n								\n					\n		\n						\n						\n					\n		
URL:https://hayadit-theater.co.il/event/%d7%a1%d7%93%d7%a0%d7%aa-%d7%92%d7%91%d7%94%d7%99%d7%9d-%d7%95%d7%a2%d7%95%d7%9e%d7%a7%d7%99%d7%9d-%d7%a2%d7%9d-%d7%93%d7%95%d7%93%d7%99-%d7%9e%d7%a2%d7%99%d7%99%d7%9f/
LOCATION:כפר גליקסון\, מפרץ שלמה 10\, תל אביב יפו\, Israel
CATEGORIES:סדנאות אמן אורח
ATTACH;FMTTYPE=image/jpeg:https://hayadit-theater.co.il/wp-content/uploads/2019/04/דודי-מעיין-1.jpg
END:VEVENT
END:VCALENDAR