BEGIN:VCALENDAR
VERSION:2.0
PRODID:-//תיאטרון הידית - ECPv5.16.4//NONSGML v1.0//EN
CALSCALE:GREGORIAN
METHOD:PUBLISH
X-WR-CALNAME:תיאטרון הידית
X-ORIGINAL-URL:https://hayadit-theater.co.il
X-WR-CALDESC:Events for תיאטרון הידית
BEGIN:VTIMEZONE
TZID:UTC
BEGIN:STANDARD
TZOFFSETFROM:+0000
TZOFFSETTO:+0000
TZNAME:UTC
DTSTART:20210101T000000
END:STANDARD
END:VTIMEZONE
BEGIN:VEVENT
DTSTART;TZID=UTC:20210607T180000
DTEND;TZID=UTC:20210607T210000
DTSTAMP:20260424T205649
CREATED:20210525T115838Z
LAST-MODIFIED:20210525T120322Z
UID:3488-1623088800-1623099600@hayadit-theater.co.il
SUMMARY:קול הנחלים / שגרה מוסדית 2.0 בפסטיבל ישראל
DESCRIPTION:קול הנחלים				\n				\n				\n				\n					שגרה מוסדית 2.0 בפסטיבל ישראל				\n				\n				\n				\n									שני\, 7.6\, 18:00 | שלישי\, 8.6\, 18:00 | כ-70 דק' "החצר של יודה" היא מרכז תרבות ורוח ייחודי לצעירים הנמצאים בשלבי מעבר בין העולם החרדי לעולם החילוני. מרחב של סובלנות ושל פתיחות\, של אמון ושל כנות\, שמאפשר חיפוש חופשי אחר זהות ומשמעות.בחודשים האחרונים הגיעו יוצרי תיאטרון הידית להכיר את המקום\, וגילו בו קבוצה של אנשים צעירים אמיצים\, חריפים\, מוכשרים ובעלי יכולת התבטאות עמוקה וכנה. במפגש בין שני העולמות עלו סיפורים אישיים\, לבטים\, תחושות\, חלומות ובקשות\, והתקיימו סדנאות. במפגשים גיבשו חברי הידית והמשתתפים מתודה פרפורמטיבית שבה שאלות אישיות ופרטיות\, חברתיות ואמוּניות הופכות לחומר אמנותי. הם מצאו כי להתמודדות עם שאלה נוקבת שלא על מנת להשיב עליה יש כוח משחרר ומרפא המאפשר לאדם לגלות מחדש את מקומו מול עצמו\, מול החברה\, מול המשפחה\, מול העולם\, מול אלוהים.במהלך האירוע הקהל יוזמן לנוע בין המרחבים השונים בחצר של יודה כבתערוכה חיה\, לפגוש את קהילת המקום\, להיחשף לשברי סיפורים\, לדמויות\, לווידויים\, ולסודות – במילים\, בתנועה ובמנגינה. מאחורי כל קטע ומיצג עומדת שאלה מהותית שצמחה מעומק הלב של כל משתתף ומשתתפת. זו הזמנה ללכת לאיבוד במרחב של שאלות שנותרות ללא מענה כפעולה יצירתית\, ואולי גם לגלות ולחלוק משלכם. תיאטרון הידית: שירי ג'ורנו\, הנס פלדה\, ירון סנצ'ו גושן\, ליסה ג'יקובסון\, יונתן קונדה\, אביה חדידה (מנהלת הפקה) / אנשי "החצר של יודה" שפעלו וסייעו מאחורי הקלעים: יהודה כהן\, שיפי מרכוס\, סאם גרין\, חנה אוסטרי\, יעל שלם.   כרטיסים (20 ש"ח) באתר הפסטיבל >   
URL:https://hayadit-theater.co.il/event/%d7%a7%d7%95%d7%9c-%d7%94%d7%a0%d7%97%d7%9c%d7%99%d7%9d-%d7%a9%d7%92%d7%a8%d7%94-%d7%9e%d7%95%d7%a1%d7%93%d7%99%d7%aa-2-0-%d7%91%d7%a4%d7%a1%d7%98%d7%99%d7%91%d7%9c-%d7%99%d7%a9%d7%a8%d7%90%d7%9c/
LOCATION:החצר של יודה\, מנורה 8 נחלאות\, ירושלים\, Israel
CATEGORIES:במרחב הציבורי,קבוצת היוצרים
ATTACH;FMTTYPE=image/jpeg:https://hayadit-theater.co.il/wp-content/uploads/2021/05/230ebb17-9d12-4d82-b466-fc8ef927556b.jpg
END:VEVENT
END:VCALENDAR