BEGIN:VCALENDAR
VERSION:2.0
PRODID:-//תיאטרון הידית - ECPv5.16.4//NONSGML v1.0//EN
CALSCALE:GREGORIAN
METHOD:PUBLISH
X-WR-CALNAME:תיאטרון הידית
X-ORIGINAL-URL:https://hayadit-theater.co.il
X-WR-CALDESC:Events for תיאטרון הידית
BEGIN:VTIMEZONE
TZID:UTC
BEGIN:STANDARD
TZOFFSETFROM:+0000
TZOFFSETTO:+0000
TZNAME:UTC
DTSTART:20250101T000000
END:STANDARD
END:VTIMEZONE
BEGIN:VEVENT
DTSTART;TZID=UTC:20250222T203000
DTEND;TZID=UTC:20250222T223000
DTSTAMP:20260425T015420
CREATED:20250123T125407Z
LAST-MODIFIED:20250123T125502Z
UID:5740-1740256200-1740263400@hayadit-theater.co.il
SUMMARY:החיים עפים
DESCRIPTION:"החיים עפים"מופע קאלט ליצני-פילוסופי-וירטואוזי"אם החיים הם רק משחק\, אז למה אנחנו לוקחים אותם כל כך ברצינות?…" ✨ ליצנות רפואית ללב ולנשמה👻❣️ ירון סנצ'ו גושן בהצגת היחיד\, זוכת פרס הפרינג' – "קיפוד הזהב"\, 2017 בימוי: שירי ג'ורנועיצוב חלל ותפאורה: הנס פלדה עיצוב והפעלת תאורה: תומר שלום 22.2 בשעה 20:30 תיאטרון "הידית" אמפי פרדס-חנה
URL:https://hayadit-theater.co.il/event/https-www-eventer-co-il-afimfeb22/
LOCATION:אמפי פרדס-חנה\, המעלה 4\, פרדס חנה
CATEGORIES:הצגות אנסמבל,הצגות מקור
ATTACH;FMTTYPE=image/jpeg:https://hayadit-theater.co.il/wp-content/uploads/2025/01/WhatsApp-Image-2025-01-07-at-10.40.56-1-1.jpeg
END:VEVENT
END:VCALENDAR