BEGIN:VCALENDAR
VERSION:2.0
PRODID:-//תיאטרון הידית - ECPv5.16.4//NONSGML v1.0//EN
CALSCALE:GREGORIAN
METHOD:PUBLISH
X-WR-CALNAME:תיאטרון הידית
X-ORIGINAL-URL:https://hayadit-theater.co.il
X-WR-CALDESC:Events for תיאטרון הידית
BEGIN:VTIMEZONE
TZID:UTC
BEGIN:STANDARD
TZOFFSETFROM:+0000
TZOFFSETTO:+0000
TZNAME:UTC
DTSTART:20250101T000000
END:STANDARD
END:VTIMEZONE
BEGIN:VEVENT
DTSTART;TZID=UTC:20250722T170000
DTEND;TZID=UTC:20250722T183000
DTSTAMP:20260425T015609
CREATED:20250628T172221Z
LAST-MODIFIED:20250630T071327Z
UID:5844-1753203600-1753209000@hayadit-theater.co.il
SUMMARY:להתראות באנטרטיקה / נועה בקר
DESCRIPTION:להתראות באנטארקטיקה / נועה בקר\n\n				\n				\n				\n				\n									תיאטרון נייר מוזיקלי בהשראת ספרה של נורית זרחי. לכל המשפחה מגיל 4.זום\, צלם תל אביבי \,מקבל יום אחד חבילה מסתורית המשנה את חייו. הדמויות בהצגה יוצאות למסע חיפוש ברחבי תל אביב תוך מפגשים משעשעים ונוגעים ללב המובילים אותם לסוף הטוב. דמויות ההצגה והמבנים מושפעים מתיאטרון TOY THEATER  ומבובות הנייר ויחד עם מוסיקת הסווינג\, מהווים מחווה משעשעת לשנות ה-50 העליזות ולתל אביב של פעם. מן הביקורות: "להתראות באנטארקטיקה היא יצירה צנועה \, מינימליסטית ומקסימה".(הארץ\, גלריה)"הצגה מלאת השראה\, שובבית\, מתובלת בחוש הומור ומותאמת לגובה העיניים של ילדים שפותחת בפניהם צוהר לאמנות ויצירתיות ברמה גבוהה" (מרתה יודעת)קרדיטים:בימוי\, כתיבה\, משחק\, עיצוב במה: נועה בקרמוסיקה מקורית ועיבודים מוסיקלים: גרי בונניאיורים: אלית אבני שרון\, שלומי אשרעיצוב פוסטר: אלית אבני שרוןעיצוב סיפור: נועם מאיריצילום סטילס: עדי אלון\, טל מולכוצילום וידאו: אלי קלייןעריכת וידאו: שני לוטן
URL:https://hayadit-theater.co.il/event/https-www-eventer-co-il-antarticajuly22/
LOCATION:אמפי פרדס-חנה\, המעלה 4\, פרדס חנה
CATEGORIES:לילדים,מרכז אירוח
ATTACH;FMTTYPE=image/jpeg:https://hayadit-theater.co.il/wp-content/uploads/2025/06/להתראות-באנטארקטיקה-עיצוב-אלית-אבני-שרון.jpg
END:VEVENT
END:VCALENDAR