BEGIN:VCALENDAR
VERSION:2.0
PRODID:-//תיאטרון הידית - ECPv5.16.4//NONSGML v1.0//EN
CALSCALE:GREGORIAN
METHOD:PUBLISH
X-WR-CALNAME:תיאטרון הידית
X-ORIGINAL-URL:https://hayadit-theater.co.il
X-WR-CALDESC:Events for תיאטרון הידית
BEGIN:VTIMEZONE
TZID:UTC
BEGIN:STANDARD
TZOFFSETFROM:+0000
TZOFFSETTO:+0000
TZNAME:UTC
DTSTART:20250101T000000
END:STANDARD
END:VTIMEZONE
BEGIN:VEVENT
DTSTART;TZID=UTC:20250531T203000
DTEND;TZID=UTC:20250531T213000
DTSTAMP:20260425T002149
CREATED:20250521T082339Z
LAST-MODIFIED:20250521T082515Z
UID:5812-1748723400-1748727000@hayadit-theater.co.il
SUMMARY:אמא של דיקטטור / מיכל סבירוני
DESCRIPTION:אמא של דיקטטור / מיכל סבירוני				\n				\n				\n				\n									קומדיה-פאשיסטית הרוקמת בעזרת בובות\, קרקס ושאר חלקי גוף את סיפורה של אמא המגדלת מפלצת! בהשראת סיפור חייהם של הדיקטטורים הגדולים של המאה ה-20\, סבירוני מצליחהלהכניס את הקהל לעולם של פנטזיה וסאטירה חברתית קורעת מצחוק על אחד הנושאים הכבדים והטראגיים\, תוך שהיא שואלת שאלות עמוקות על הורות\, חינוך ופוטנציאל. מוצ"ש31 במאי בשעה 20:30
URL:https://hayadit-theater.co.il/event/https-www-eventer-co-il-dictatormay31/
LOCATION:אמפי פרדס-חנה\, המעלה 4\, פרדס חנה
CATEGORIES:מרכז אירוח
ATTACH;FMTTYPE=image/jpeg:https://hayadit-theater.co.il/wp-content/uploads/2023/06/sali-petel-3-scaled.jpg
END:VEVENT
END:VCALENDAR