BEGIN:VCALENDAR
VERSION:2.0
PRODID:-//תיאטרון הידית - ECPv5.16.4//NONSGML v1.0//EN
CALSCALE:GREGORIAN
METHOD:PUBLISH
X-WR-CALNAME:תיאטרון הידית
X-ORIGINAL-URL:https://hayadit-theater.co.il
X-WR-CALDESC:Events for תיאטרון הידית
BEGIN:VTIMEZONE
TZID:UTC
BEGIN:STANDARD
TZOFFSETFROM:+0000
TZOFFSETTO:+0000
TZNAME:UTC
DTSTART:20250101T000000
END:STANDARD
END:VTIMEZONE
BEGIN:VEVENT
DTSTART;TZID=UTC:20250607T200000
DTEND;TZID=UTC:20250607T230000
DTSTAMP:20260425T002113
CREATED:20250521T084046Z
LAST-MODIFIED:20250526T021752Z
UID:5823-1749326400-1749337200@hayadit-theater.co.il
SUMMARY:70 להנס ✨ יומהולדת בעננים 🌈 dare to dream
DESCRIPTION:70 להנס ✨ יומהולדת בעננים 🌈 dare to dream\n\n				\n				\n				\n				\n									הנס\, אהוב ליבנו\, חוגג 70\, והוא לא כאן\, ומאד כאן.ביום הולדתו נתכנס להיות יחד כדי לברך ולהודות על פלא היותו.הלב רוטט הנסי\,מתפעמים על היותך הנסי\, על אינסוף קסם ופלא הלב שזרעת כאן\, ההשראה שהשארת לנו ממשיכה להתגלות עוד ועוד.נצמיח עבור כולנו גן של עננים לשחק\, לשהות\, ליצור\, להשתתף\,להתנחם להיות עצובים\, לבכות ולצחוק על החיים\,נזכור שהמשחק נמשך והחיים יפים כל כך…בחלק הראשון של הערב ננוע בין מתחמים: משחק\, יצירה ומפגשי קסם שונים עם הנסי ויצירתו.בחלק השני נתכנס באולם לברכות ומופעים קצרים\, נעבור דרך 7 שערים שהם 7 עשורים ואיכויות של הנסושער נוסף לעשור-עולם הבא…מוזמנים בלב פתוח כרטיסים במדרגות מחיר החל מ 60 שקלים נודה לכל השתתפות בתמיכה לשיפוץ האמפי.  
URL:https://hayadit-theater.co.il/event/https-www-eventer-co-il-hansjune7/
LOCATION:אמפי פרדס-חנה\, המעלה 4\, פרדס חנה
CATEGORIES:מסיבות,מרכז אירוח
ATTACH;FMTTYPE=image/jpeg:https://hayadit-theater.co.il/wp-content/uploads/2025/05/WhatsApp-Image-2025-05-13-at-10.15.58.jpeg
END:VEVENT
END:VCALENDAR